Workbook
Name AAA: [1]Insumos!#REF!
Name AdesivoPVC: [1]Insumos!#REF!
Name ArameCozidoN18: [1]Insumos!#REF!
Name ArameGalvN10: [1]Insumos!#REF!
Name ArameGalvn14: [1]Insumos!#REF!
Name AreiaRegular: [1]Insumos!#REF!
Name ArgamassadeCaleAreia: [1]Insumos!#REF!
Name AsfaltoCAP20: [1]Insumos!#REF!
Name AsfaltoDiluidoCM30: [1]Insumos!#REF!
Name AterroImpISC10PostoObra: [1]Insumos!#REF!
Name AterroImpPostoObra: [1]Insumos!#REF!
Name BasaltoIrregular: [1]Insumos!#REF!
Name bdi: '[2]Comparativo Av. Cristóvão'!#REF!
Name BetoneiracMotoreletrico500LcCarregador: [1]Insumos!#REF!
Name BlocodeConcretoEsp10CM: [1]Insumos!#REF!
Name BlocodeConcretoEsp8CM: [1]Insumos!#REF!
Name Brita1: [1]Insumos!#REF!
Name Brita2: [1]Insumos!#REF!
Name Brita3: [1]Insumos!#REF!
Name BritaGraduadaPostoObra: [1]Insumos!#REF!
Name CaibroouTirante8x16x540: [1]Insumos!#REF!
Name CalApagada: [1]Insumos!#REF!
Name CalcareoBranco: [1]Insumos!#REF!
Name CALCETEIRO: #REF!
Name Calha040: [1]Insumos!#REF!
Name Calha080: [1]Insumos!#REF!
Name CaminhãoBasculante140HP: [1]Insumos!#REF!
Name CaminhãoBetoneira: [1]Insumos!#REF!
Name CaminhãoCaixaGuindaudo140HP: [1]Insumos!#REF!
Name Carpinteiro: #REF!
Name CarroDistribAsfalto5000LCompl: [1]Insumos!#REF!
Name Carropipacompl5000L: [1]Insumos!#REF!
Name CentrConcreCimenPortland50M3H: [1]Insumos!#REF!
Name Chapademadeiracompensada12mm: [1]Insumos!#REF!
Name Cimento: [1]Insumos!#REF!
Name COMP: [1]Insumos!#REF!
Name CORDOEIRO: #REF!
Name D: [1]Insumos!#REF!
Name dados_re: [3]RE!$B$13:$P$37
Name Desmoldanteparaforma: [1]Insumos!#REF!
Name DiabasioPretoCinzaRosa: [1]Insumos!#REF!
Name Diesel: '[4]Ct Hor Equip 2'!$AA$8
Name Dimamite: [1]Insumos!#REF!
Name DistribuidordeAgregRebocavel: [1]Insumos!#REF!
Name EmulsãoAsfalticaRL2C: [1]Insumos!#REF!
Name EncarregadoObrasViárias: #REF!
Name EnergiaElétrica: [1]Insumos!#REF!
Name EquipComplExtraçãoRocha: [1]Insumos!#REF!
Name EscoradeEucalipto: [1]Insumos!#REF!
Name EspoletaEletrica: [1]Insumos!#REF!
Name EstacPranchMetali: [1]Insumos!#REF!
Name Excel_BuiltIn_Print_Area_6_1: #REF!
Name Excel_BuiltIn_Print_Titles_1_1: #REF!
Name FerconstrCA501.2: [1]Insumos!#REF!
Name Ferreiro: #REF!
Name Filler: [1]Insumos!#REF!
Name Gasolina: '[4]Ct Hor Equip 2'!$AC$9
Name GradedeDiscoHidraulicoCompl: [1]Insumos!#REF!
Name GramadeCampoemPlaca: [1]Insumos!#REF!
Name GrelhaFerroFund30x85: [1]Insumos!#REF!

Sheet PO - SANITÁRIOS
A1: PLANILHA ORÇAMENTÁRIA-MATERIAL e MÃO de OBRA
A3: OBRA: REFORMA ESCOLA MUNICIPAL ENSINO FUNDAMENTAL NOSSA SRA.DAS GRAÇAS
A4: LOCALIZAÇÃO: RUA HELMO NONNEMACHER,Nº1115, CAPELA DE SANTANA - RS
A5: ÁREA:134,30 m²
A6: SINAPI: DATA BASE : out/2023 | E6: BDI ADOTADO (%): | G6: 0.2098
A7: Item | B7: Descrição dos Materiais | C7: CÓDIGO SINAPI | E7: Un. | F7: Qtd. | G7: Valor unitário | H7: Valor Unitário | I7: VALOR TOTAL C / BDI | J7: %
F9: A | G9: s / BDI | H9: C / BDI
A11: 1 | B11: SERVIÇOS PRELIMINARES
A12: 1.1 | B12: Limpeza de superficiae c/ jato | C12: SINAPI | D12: 99814 | E12: M² | F12: 135 | G12: 1.97 | H12: =ROUND(G12*(1+$G$6),2) -> 2.38 | I12: =ROUND(F12*H12,2) -> 321.3 | J12: =ROUND(I12/$I$15,4) -> 0.0358
A13: 1.2 | B13: Tapume com compensado de madeirs | C13: SINAPI | D13: 98458 | E13: M² | F13: =24*2.1 -> 50.4 | G13: 127.48 | H13: =ROUND(G13*(1+$G$6),2) -> 154.23 | I13: =ROUND(F13*H13,2) -> 7773.19 | J13: =ROUND(I13/$I$15,4) -> 0.867
A14: 1.3 | B14: Placa de obra em chapa de aço galvanizado, medidas 2,40x1,20m | C14: SINAPI | D14: 4813 | E14: M² | F14: 2.88 | G14: 250 | H14: =ROUND(G14*(1+$G$6),2) -> 302.45 | I14: =ROUND(F14*H14,2) -> 871.06 | J14: =ROUND(I14/$I$15,4) -> 0.0972
A15: TOTAL ÍTEM | H15: =$A$11 -> 1 | I15: =ROUND(SUM(I12:I14),2) -> 8965.55 | J15: =ROUND(I15/$I$109,4) -> 0.0623
A17: 2 | B17: FUNDAÇÃO
A18: 2.1 | B18: Escavação solo para fundação | C18: SINAPI | D18: 96527 | E18: M³ | F18: 19.5 | G18: 111.2 | H18: =ROUND(G18*(1+$G$6),2) -> 134.53 | I18: =ROUND(F18*H18,2) -> 2623.34 | J18: =ROUND(I18/$I$27,4) -> 0.1803
A19: 2.2 | B19: Regularização do fundo das valas c/ largura menor que 1,5m | C19: SINAPI | D19: 101616 | E19: M² | F19: 24.4 | G19: 5.41 | H19: =ROUND(G19*(1+$G$6),2) -> 6.55 | I19: =ROUND(F19*H19,2) -> 159.82 | J19: =ROUND(I19/$I$27,4) -> 0.011
A20: 2.3 | B20: Alvenaria de fundação em pedra, espessura = 20 cm | C20: SINAPI | D20: 95474 | E20: M³ | F20: =((0.6*0.4*8.5)*2)+((0.6*0.4*5.15)*2)+(0.6*0.4*5.15) -> 7.79 | G20: 618.37 | H20: =ROUND(G20*(1+$G$6),2) -> 748.1 | I20: =ROUND(F20*H20,2) -> 5827.7 | J20: =ROUND(I20/$I$27,4) -> 0.4005
A21: 2.4 | B21: Armadura das vigas de fundação de estrutura convencional de concreto armado de 5.0mm | C21: SINAPI | D21: 92775 | E21: kg | F21: 28.46 | G21: 19.19 | H21: =ROUND(G21*(1+$G$6),2) -> 23.22 | I21: =ROUND(F21*H21,2) -> 660.84 | J21: =ROUND(I21/$I$27,4) -> 0.0454
A22: 2.5 | B22: Armadura das vigas de fundação de estrutura convencional de concreto armado de 10.0mm | C22: SINAPI | D22: 92778 | E22: kg | F22: 52.2 | G22: 15.15 | H22: =ROUND(G22*(1+$G$6),2) -> 18.33 | I22: =ROUND(F22*H22,2) -> 956.83 | J22: =ROUND(I22/$I$27,4) -> 0.0658
A23: 2.6 | B23: Armadura das vigas de fundação de estrutura convencional de concreto armado de 12.50mm | C23: SINAPI | D23: 92779 | E23: kg | F23: 40.65 | G23: 12.75 | H23: =ROUND(G23*(1+$G$6),2) -> 15.42 | I23: =ROUND(F23*H23,2) -> 626.82 | J23: =ROUND(I23/$I$27,4) -> 0.0431
A24: 2.7 | B24: Concretagem das vigas baldrames | C24: SINAPI | D24: 96557 | E24: M³ | F24: 1.37 | G24: 599.57 | H24: =ROUND(G24*(1+$G$6),2) -> 725.36 | I24: =ROUND(F24*H24,2) -> 993.74 | J24: =ROUND(I24/$I$27,4) -> 0.0683
A25: 2.8 | B25: Impermeabilização das vigas baldrames com cimento e areia c/aditivo impermeabilizante | C25: SINAPI | D25: 98562 | E25: M² | F25: =((8.5*0.3)*4)+((5.15*0.3)*4)+((5.1*0.3)*2) -> 19.44 | G25: 39.03 | H25: =ROUND(G25*(1+$G$6),2) -> 47.22 | I25: =ROUND(F25*H25,2) -> 917.96 | J25: =ROUND(I25/$I$27,4) -> 0.0631
A26: 2.9 | B26: Montagem e desmontagem de forma de pilares retangulares (reutilização 2 vezes) | C26: SINAPI | D26: 92447 | E26: M² | F26: =19.5/2 -> 9.75 | G26: 151.36 | H26: =ROUND(G26*(1+$G$6),2) -> 183.12 | I26: =ROUND(F26*H26,2) -> 1785.42 | J26: =ROUND(I26/$I$27,4) -> 0.1227
A27: TOTAL ÍTEM | H27: =A17 -> 2 | I27: =ROUND(SUM(I18:I26),2) -> 14552.47 | J27: =ROUND(I27/$I$109,4) -> 0.101
A29: 3 | B29: PAVIMENTAÇÃO
A30: 3.1 | B30: Contrapiso da área interna, em concreto, espessura = 5 cm | C30: SINAPI | D30: 94990 | E30: M³ | F30: =(29.34+9.7)*0.05 -> 1.95 | G30: 713.99 | H30: =ROUND(G30*(1+$G$6),2) -> 863.79 | I30: =ROUND(F30*H30,2) -> 1684.39 | J30: =ROUND(I30/$I$32,4) -> 0.3937
A31: 3.2 | B31: Piso em cerâmica esmaltada antiderrapante | C31: SINAPI | D31: 87246 | E31: M² | F31: =(29.34+9.7) -> 39.04 | G31: 54.92 | H31: =ROUND(G31*(1+$G$6),2) -> 66.44 | I31: =ROUND(F31*H31,2) -> 2593.82 | J31: =ROUND(I31/$I$32,4) -> 0.6063
A32: TOTAL ÍTEM | H32: =A29 -> 3 | I32: =ROUND(SUM(I30:I31),2) -> 4278.21 | J32: =ROUND(I32/$I$109,4) -> 0.0297
A34: 4 | B34: ALVENARIAS DE VEDAÇÃO
A35: 4.1 | B35: Demolição de Alvenaria existente | C35: SINAPI | D35: 97622 | E35: M³ | F35: 3.04 | G35: 57.7 | H35: =ROUND(G35*(1+$G$6),2) -> 69.81 | I35: =ROUND(F35*H35,2) -> 212.22 | J35: =ROUND(I35/$I$37,4) -> 0.0931
A36: 4.2 | B36: Alvenaria de vedação | C36: SINAPI | D36: 103322 | E36: M² | F36: 30 | G36: 56.97 | H36: =ROUND(G36*(1+$G$6),2) -> 68.92 | I36: =ROUND(F36*H36,2) -> 2067.6 | J36: =ROUND(I36/$I$37,4) -> 0.9069
A37: TOTAL ÍTEM | H37: =A34 -> 4 | I37: =ROUND(SUM(I35:I36),2) -> 2279.82 | J37: =ROUND(I37/$I$109,4) -> 0.0158
A39: 5 | B39: REVESTIMENTOS DE PAREDES
A40: 5.1 | B40: Chapisco sobre paredes internas e externas, traço de 1:3 | C40: SINAPI | D40: 87878 | E40: M² | F40: =51.08+61.6+164.22+110 -> 386.9 | G40: 4.81 | H40: =ROUND(G40*(1+$G$6),2) -> 5.82 | I40: =ROUND(F40*H40,2) -> 2251.76 | J40: =ROUND(I40/$I$45,4) -> 0.0423
A41: 5.2 | B41: Emboço para as paredes internas e externas | C41: SINAPI | D41: 87775 | E41: M² | F41: =F40 -> 386.9 | G41: 53.02 | H41: =ROUND(G41*(1+$G$6),2) -> 64.14 | I41: =ROUND(F41*H41,2) -> 24815.77 | J41: =ROUND(I41/$I$45,4) -> 0.4658
A42: 5.3 | B42: Emboço p/ recebimento de cerâmicas, em argamassa TRAÇO 1:2:8. | C42: SINAPI | D42: 87528 | E42: M² | F42: 58 | G42: 44.3 | H42: =ROUND(G42*(1+$G$6),2) -> 53.59 | I42: =ROUND(F42*H42,2) -> 3108.22 | J42: =ROUND(I42/$I$45,4) -> 0.0583
A43: 5.4 | B43: Reboco das paredes internas e externas | C43: SINAPI | D43: 87530 | E43: M² | F43: =F41 -> 386.9 | G43: 40.48 | H43: =ROUND(G43*(1+$G$6),2) -> 48.97 | I43: =ROUND(F43*H43,2) -> 18946.49 | J43: =ROUND(I43/$I$45,4) -> 0.3556
A44: 5.5 | B44: Revestimento das paredes em cerâmica esmaltada | C44: SINAPI | D44: 87265 | E44: M² | F44: 58 | G44: 59.26 | H44: =ROUND(G44*(1+$G$6),2) -> 71.69 | I44: =ROUND(F44*H44,2) -> 4158.02 | J44: =ROUND(I44/$I$45,4) -> 0.078
A45: TOTAL ÍTEM | H45: =A39 -> 5 | I45: =ROUND(SUM(I40:I44),2) -> 53280.26 | J45: =ROUND(I45/$I$109,4) -> 0.3699
A47: 6 | B47: PINTURAS
A48: 6.1 | B48: Pintura das paredes com tinta acrílica, duas demãos interna | C48: SINAPI | D48: 88421 | E48: M² | F48: =31.38+51.08+73.5+30.98+56.66+33.3 -> 276.9 | G48: 27.25 | H48: =ROUND(G48*(1+$G$6),2) -> 32.97 | I48: =ROUND(F48*H48,2) -> 9129.39 | J48: =ROUND(I48/$I$54,4) -> 0.5223
...

Sheet TOTALIZADORA
A1: PLANILHA TOTALIZADORA COM CRONOGRAMA FÍSICO-FINACEIRO
A3: ='PO - SANITÁRIOS'!A3 -> OBRA: REFORMA ESCOLA MUNICIPAL ENSINO FUNDAMENTAL NOSSA SRA.DAS GRAÇAS
A4: ='PO - SANITÁRIOS'!A4 -> LOCALIZAÇÃO: RUA HELMO NONNEMACHER,Nº1115, CAPELA DE SANTANA - RS
A5: ='PO - SANITÁRIOS'!A5 -> ÁREA:134,30 m²
A6: ='PO - SANITÁRIOS'!A6 -> SINAPI: DATA BASE : out/2023
A8: Item | B8: Descrição dos Serviços | C8: VALOR TOTAL | D8: % | E8: 30 dias | F8: % | G8: 60 dias | H8: %
C9: Mat./M.Obra
A11: ='PO - SANITÁRIOS'!A11 -> 1 | B11: ='PO - SANITÁRIOS'!B11 -> SERVIÇOS PRELIMINARES | C11: ='PO - SANITÁRIOS'!I15 -> 8965.55 | D11: ='PO - SANITÁRIOS'!J15 -> 0.0623 | E11: =F11*$C11 -> 8965.55 | F11: 1 | G11: =H11*$C11 -> 0 | H11: 0 | I11: =E11+G11 -> 8965.55 | J11: =F11+H11 -> 1
A12: ='PO - SANITÁRIOS'!A17 -> 2 | B12: ='PO - SANITÁRIOS'!B17 -> FUNDAÇÃO | D12: 0 | E12: =F12*$C12 -> 0 | F12: 0 | G12: =H12*$C12 -> 0 | H12: 0 | I12: =E12+G12 -> 0 | J12: =F12+H12 -> 0
A13: ='PO - SANITÁRIOS'!A29 -> 3 | B13: ='PO - SANITÁRIOS'!B29 -> PAVIMENTAÇÃO | D13: 0 | E13: =F13*$C13 -> 0 | F13: 0 | G13: =H13*$C13 -> 0 | H13: 0 | I13: =E13+G13 -> 0 | J13: =F13+H13 -> 0
A14: ='PO - SANITÁRIOS'!A34 -> 4 | B14: ='PO - SANITÁRIOS'!B34 -> ALVENARIAS DE VEDAÇÃO | C14: ='PO - SANITÁRIOS'!I37 -> 2279.82 | D14: ='PO - SANITÁRIOS'!J37 -> 0.0158 | E14: =F14*$C14 -> 2279.82 | F14: 1 | G14: =H14*$C14 -> 0 | H14: 0 | I14: =E14+G14 -> 2279.82 | J14: =F14+H14 -> 1
A15: ='PO - SANITÁRIOS'!A39 -> 5 | B15: ='PO - SANITÁRIOS'!B39 -> REVESTIMENTOS DE PAREDES | C15: ='PO - SANITÁRIOS'!I45 -> 53280.26 | D15: ='PO - SANITÁRIOS'!J45 -> 0.3699 | E15: =F15*$C15 -> 0 | F15: 0 | G15: =H15*$C15 -> 53280.26 | H15: 1 | I15: =E15+G15 -> 53280.26 | J15: =F15+H15 -> 1
A16: ='PO - SANITÁRIOS'!A47 -> 6 | B16: ='PO - SANITÁRIOS'!B47 -> PINTURAS | C16: ='PO - SANITÁRIOS'!I54 -> 17478.83 | D16: ='PO - SANITÁRIOS'!J54 -> 0.1214 | E16: =F16*$C16 -> 0 | F16: 0 | G16: =H16*$C16 -> 17478.83 | H16: 1 | I16: =E16+G16 -> 17478.83 | J16: =F16+H16 -> 1
A17: ='PO - SANITÁRIOS'!A56 -> 7 | B17: ='PO - SANITÁRIOS'!B56 -> COBERTURA | C17: ='PO - SANITÁRIOS'!I62 -> 40696.2 | D17: ='PO - SANITÁRIOS'!J62 -> 0.2826 | E17: =F17*$C17 -> 40696.2 | F17: 1 | G17: =H17*$C17 -> 0 | H17: 0 | I17: =E17+G17 -> 40696.2 | J17: =F17+H17 -> 1
A18: ='PO - SANITÁRIOS'!A64 -> 8 | B18: ='PO - SANITÁRIOS'!B64 -> ESQUADRIAS | C18: ='PO - SANITÁRIOS'!I72 -> 11546.12 | D18: ='PO - SANITÁRIOS'!J72 -> 0.0802 | E18: =F18*$C18 -> 11546.12 | F18: 1 | G18: =H18*$C18 -> 0 | H18: 0 | I18: =E18+G18 -> 11546.12 | J18: =F18+H18 -> 1
A19: ='PO - SANITÁRIOS'!A74 -> 9 | B19: ='PO - SANITÁRIOS'!B74 -> INSTALAÇÕES HIDRÁULICAS | C19: ='PO - SANITÁRIOS'!I81 -> 1894.61 | D19: ='PO - SANITÁRIOS'!J81 -> 0.0132 | E19: =F19*$C19 -> 1894.61 | F19: 1 | G19: =H19*$C19 -> 0 | H19: 0 | I19: =E19+G19 -> 1894.61 | J19: =F19+H19 -> 1
A20: 10 | B20: ='PO - SANITÁRIOS'!B82 -> INSTALAÇÕES ELÉTRICAS | C20: ='PO - SANITÁRIOS'!I96 -> 4777.37 | D20: ='PO - SANITÁRIOS'!J96 -> 0.0332 | E20: =F20*$C20 -> 2388.69 | F20: 0.5 | G20: =H20*$C20-0.01 -> 2388.68 | H20: 0.5 | I20: =E20+G20 -> 4777.37 | J20: =F20+H20 -> 1
A21: 11 | B21: ='PO - SANITÁRIOS'!B98 -> LOUÇAS E ACESSÓRIOS SANITÁRIOS | C21: ='PO - SANITÁRIOS'!I106 -> 3101.45 | D21: ='PO - SANITÁRIOS'!J106 -> 0.0215 | E21: =F21*$C21 -> 0 | F21: 0 | G21: =H21*$C21 -> 3101.45 | H21: 1 | I21: =E21+G21 -> 3101.45 | J21: =F21+H21 -> 1
A23: TOTAL DAS MEDIÇÕES | C23: =SUM(C11:C22) -> 144020.21 | D23: =SUM(D11:D21) -> 1 | E23: =SUM(E11:E21) -> 67770.99 | F23: =E23/$C23 -> 0.4706 | G23: =SUM(G11:G21) -> 76249.22 | H23: =G23/$C23 -> 0.5294 | J23: =AVERAGE(J11:J21) -> 0.82
A24: VALORES ACUMULADOS | E24: =E23 -> 67770.99 | F24: =E24/$C23 -> 0.4706 | G24: =G23+E24 -> 144020.21 | H24: =G24/$C23 -> 1

Sheet COMP
D4: PREFEITURA MUNICIPAL DE CAPELA DE SANTANA/RS
D6: OBJETO: | E6: PROJETO DE EDIFICAÇÃO
D8: COMPOSIÇÃO- NSTALAÇÃO DE TUBOS DE PVC, SOLDÁVEL, ÁGUA FRIA, DN 25 MM
D9: CLASSE/TIPO | E9: CÓDIGOS | F9: DESCRIÇÃO | G9: UNIDADE | H9: COEF. | I9: PREÇO UNIT. | J9: PREÇO TOTAL
D10: COMPOSICAO | E10: 89356 | F10: TUBO, PVC, SOLDÁVEL, DN 25MM, INSTALADO EM RAMAL OU SUB-RAMAL DE ÁGUA,DESCRIÇÃO ,FORNECIMENTO E INSTALAÇÃO. | G10: M | H10: 0.794 | I10: 24.68 | J10: =I10*H10 -> 19.6
D11: COMPOSICAO | E11: 89362 | F11: JOELHO 90 GRAUS, PVC, SOLDÁVEL, DN 25MM, INSTALADO EM RAMAL OU SUB-RAMAL E ÁGUA - FORNECIMENTO E INSTALAÇÃO | G11: UNIDADE | H11: 0.6543 | I11: 9.85 | J11: =I11*H11 -> 6.44
D12: COMPOSICAO | E12: 89366 | F12: JOELHO 90 GRAUS COM BUCHA DE LATÃO, PVC, SOLDÁVEL, DN 25MM, X 3/4 INSTALADO EM RAMAL OU SUB-RAMAL DE ÁGUA - FORNECIMENTO E INSTALAÇÃO. | G12: UNIDADE | H12: 0.1694 | I12: 17.66 | J12: =I12*H12 -> 2.99
D13: COMPOSICAO | E13: 89378 | F13: LUVA, PVC, SOLDÁVEL, DN 25MM, INSTALADO EM RAMAL OU SUB-RAMAL DE ÁGUA - FORNECIMENTO E INSTALAÇÃO. | G13: UNIDADE | H13: 0.0773 | I13: 7.38 | J13: =I13*H13 -> 0.57
D14: COMPOSICAO | E14: 89383 | F14: ADAPTADOR CURTO COM BOLSA E ROSCA PARA REGISTRO, PVC, SOLDÁVEL, DN 25MM X3/4 , INSTALADO EM RAMAL OU SUB-RAMAL DE ÁGUA - FORNECIMENTO E INSTALAÇÃO | G14: UNIDADE | H14: 0.6522 | I14: 6.93 | J14: =I14*H14 -> 4.52
D15: COMPOSICAO | E15: 89395 | F15: TE, PVC, SOLDÁVEL, DN 25MM, INSTALADO EM RAMAL OU SUB-RAMAL DE ÁGUA - FORNECIMENTO E INSTALAÇÃO. | G15: UNIDADE | H15: 0.3037 | I15: 13.63 | J15: =I15*H15 -> 4.14
D16: COMPOSICAO | E16: 89396 | F16: TÊ COM BUCHA DE LATÃO NA BOLSA CENTRAL, PVC, SOLDÁVEL, DN 25MM X 1/2 INSTALADO EM RAMAL OU SUB-RAMAL DE ÁGUA - FORNECIMENTO E INSTALAÇÃO. | G16: UNIDADE | H16: 0.0168 | I16: 22.14 | J16: =I16*H16 -> 0.37
D17: COMPOSICAO | E17: 89400 | F17: TÊ DE REDUÇÃO, PVC, SOLDÁVEL, DN 32MM X 25MM, INSTALADO EM RAMAL OU SUB-RAMAL DE ÁGUA - FORNECIMENTO E INSTALAÇÃO. | G17: UNIDADE | H17: 0.0115 | I17: 21.3 | J17: =I17*H17 -> 0.24
D18: COMPOSICAO | E18: 89402 | F18: TUBO, PVC, SOLDÁVEL, DN 25MM, INSTALADO EM RAMAL DE DISTRIBUIÇÃO DE ÁGUA FORNECIMENTO E INSTALAÇÃO. | G18: M | H18: 0.078 | I18: 13.22 | J18: =I18*H18 -> 1.03
D19: COMPOSICAO | E19: 89408 | F19: JOELHO 90 GRAUS, PVC, SOLDÁVEL, DN 25MM, INSTALADO EM RAMAL DE DISTRIBUIÇÃO DE ÁGUA - FORNECIMENTO E INSTALAÇÃO. | G19: UNIDADE | H19: 0.0076 | I19: 9.02 | J19: =I19*H19 -> 0.07
D20: COMPOSICAO | E20: 89424 | F20: LUVA, PVC, SOLDÁVEL, DN 25MM, INSTALADO EM RAMAL DE DISTRIBUIÇÃO DE ÁGUA ORNECIMENTO E INSTALAÇÃO. | G20: UNIDADE | H20: 0.0135 | I20: 6.81 | J20: =I20*H20 -> 0.09
D21: COMPOSICAO | E21: 89440 | F21: TE, PVC, SOLDÁVEL, DN 25MM, INSTALADO EM RAMAL DE DISTRIBUIÇÃO DE ÁGUA FORNECIMENTO E INSTALAÇÃO. | G21: UNIDADE | H21: 0.0017 | I21: 12.51 | J21: =I21*H21 -> 0.02
... D33: COMPOSICAO | E33: 91185 | F33: FIXAÇÃO DE TUBOS HORIZONTAIS DE PVC, CPVC OU COBRE DIÂMETROS MENORES OU IGUAIS A 40 MM COM ABRAÇADEIRA METÁLICA FLEXÍVEL 18 MM | G33: M | H33: 0.0092 | I33: 25.35 | J33: =I33*H33 -> 0.23
D34: COMPOSICAO | E34: 91190 | F34: HUMBAMENTO PONTUAL EM PASSAGEM DE TUBO COM DIÂMETRO MENOR OU IGUAL A 40 MM | G34: UNIDADE | H34: 0.0083 | I34: 10.69 | J34: 3.75
G35: TOTAL / M | J35: =J10+J11+J12+J13+J14+J15+J16+J17+J18+J19+J20+J21+J22+J23+J24+J25+J26+J27+J28+J29+J30+J31+J32+J33+J34 -> 53.82
D36: OBSERVAÇÃO:
D37: 1 - UTILIZADO A TABELA SINAPI NÃO DESONERADA -OUTUBRO/2023
