Workbook
Name AAA: [1]Insumos!#REF!
Name AdesivoPVC: [1]Insumos!#REF!
Name ArameCozidoN18: [1]Insumos!#REF!
Name ArameGalvN10: [1]Insumos!#REF!
Name ArameGalvn14: [1]Insumos!#REF!
Name AreiaRegular: [1]Insumos!#REF!
Name ArgamassadeCaleAreia: [1]Insumos!#REF!
Name AsfaltoCAP20: [1]Insumos!#REF!
Name AsfaltoDiluidoCM30: [1]Insumos!#REF!
Name AterroImpISC10PostoObra: [1]Insumos!#REF!
Name AterroImpPostoObra: [1]Insumos!#REF!
Name BasaltoIrregular: [1]Insumos!#REF!
Name bdi: '[2]Comparativo Av. Cristóvão'!#REF!
Name BetoneiracMotoreletrico500LcCarregador: [1]Insumos!#REF!
Name BlocodeConcretoEsp10CM: [1]Insumos!#REF!
Name BlocodeConcretoEsp8CM: [1]Insumos!#REF!
Name Brita1: [1]Insumos!#REF!
Name Brita2: [1]Insumos!#REF!
Name Brita3: [1]Insumos!#REF!
Name BritaGraduadaPostoObra: [1]Insumos!#REF!
Name CaibroouTirante8x16x540: [1]Insumos!#REF!
Name CalApagada: [1]Insumos!#REF!
Name CalcareoBranco: [1]Insumos!#REF!
Name CALCETEIRO: #REF!
Name Calha040: [1]Insumos!#REF!
Name Calha080: [1]Insumos!#REF!
Name CaminhãoBasculante140HP: [1]Insumos!#REF!
Name CaminhãoBetoneira: [1]Insumos!#REF!
Name CaminhãoCaixaGuindaudo140HP: [1]Insumos!#REF!
Name Carpinteiro: #REF!
Name CarroDistribAsfalto5000LCompl: [1]Insumos!#REF!
Name Carropipacompl5000L: [1]Insumos!#REF!
Name CentrConcreCimenPortland50M3H: [1]Insumos!#REF!
Name Chapademadeiracompensada12mm: [1]Insumos!#REF!
Name Cimento: [1]Insumos!#REF!
Name COMP: [1]Insumos!#REF!
Name CORDOEIRO: #REF!
Name D: [1]Insumos!#REF!
Name dados_re: [3]RE!$B$13:$P$37
Name Desmoldanteparaforma: [1]Insumos!#REF!
Name DiabasioPretoCinzaRosa: [1]Insumos!#REF!
Name Diesel: '[4]Ct Hor Equip 2'!$AA$8
Name Dimamite: [1]Insumos!#REF!
Name DistribuidordeAgregRebocavel: [1]Insumos!#REF!
Name EmulsãoAsfalticaRL2C: [1]Insumos!#REF!
Name EncarregadoObrasViárias: #REF!
Name EnergiaElétrica: [1]Insumos!#REF!
Name EquipComplExtraçãoRocha: [1]Insumos!#REF!
Name EscoradeEucalipto: [1]Insumos!#REF!
Name EspoletaEletrica: [1]Insumos!#REF!
Name EstacPranchMetali: [1]Insumos!#REF!
Name Excel_BuiltIn_Print_Area_6_1: #REF!
Name Excel_BuiltIn_Print_Titles_1_1: #REF!
Name FerconstrCA501.2: [1]Insumos!#REF!
Name Ferreiro: #REF!
Name Filler: [1]Insumos!#REF!
Name Gasolina: '[4]Ct Hor Equip 2'!$AC$9
Name GradedeDiscoHidraulicoCompl: [1]Insumos!#REF!
Name GramadeCampoemPlaca: [1]Insumos!#REF!
Name GrelhaFerroFund30x85: [1]Insumos!#REF!

Sheet PO - SANITÁRIOS
A1: PLANILHA ORÇAMENTÁRIA-MATERIAL e MÃO de OBRA
A3: OBRA: REFORMA ESCOLA MUNICIPAL ENSINO FUNDAMENTAL NOSSA SRA.DAS GRAÇAS
A4: LOCALIZAÇÃO: RUA HELMO NONNEMACHER,Nº1115, CAPELA DE SANTANA - RS
A5: ÁREA:134,30 m²
A6: SINAPI: DATA BASE : out/2023 | E6: BDI ADOTADO (%): | G6: 0.2098
A7: Item | B7: Descrição dos Materiais | C7: CÓDIGO SINAPI | E7: Un. | F7: Qtd. | G7: Valor unitário | H7: Valor Unitário | I7: VALOR TOTAL C / BDI | J7: %
F9: A | G9: s / BDI | H9: C / BDI
A11: 1 | B11: SERVIÇOS PRELIMINARES
A12: 1.1 | B12: Limpeza de superficiae c/ jato | C12: SINAPI | D12: 99814 | E12: M² | F12: 135 | G12: 1.97 | H12: =ROUND(G12*(1+$G$6),2) -> 2.38 | I12: =ROUND(F12*H12,2) -> 321.3 | J12: =ROUND(I12/$I$15,4) -> 0.0358
A13: 1.2 | B13: Tapume com compensado de madeirs | C13: SINAPI | D13: 98458 | E13: M² | F13: =24*2.1 -> 50.4 | G13: 127.48 | H13: =ROUND(G13*(1+$G$6),2) -> 154.23 | I13: =ROUND(F13*H13,2) -> 7773.19 | J13: =ROUND(I13/$I$15,4) -> 0.867
A14: 1.3 | B14: Placa de obra em chapa de aço galvanizado, medidas 2,40x1,20m | C14: SINAPI | D14: 4813 | E14: M² | F14: 2.88 | G14: 250 | H14: =ROUND(G14*(1+$G$6),2) -> 302.45 | I14: =ROUND(F14*H14,2) -> 871.06 | J14: =ROUND(I14/$I$15,4) -> 0.0972
A15: TOTAL ÍTEM | H15: =$A$11 -> 1 | I15: =ROUND(SUM(I12:I14),2) -> 8965.55 | J15: =ROUND(I15/$I$109,4) -> 0.0623
A17: 2 | B17: FUNDAÇÃO
A18: 2.1 | B18: Escavação solo para fundação | C18: SINAPI | D18: 96527 | E18: M³ | F18: 19.5 | G18: 111.2 | H18: =ROUND(G18*(1+$G$6),2) -> 134.53 | I18: =ROUND(F18*H18,2) -> 2623.34 | J18: =ROUND(I18/$I$27,4) -> 0.1803
A19: 2.2 | B19: Regularização do fundo das valas c/ largura menor que 1,5m | C19: SINAPI | D19: 101616 | E19: M² | F19: 24.4 | G19: 5.41 | H19: =ROUND(G19*(1+$G$6),2) -> 6.55 | I19: =ROUND(F19*H19,2) -> 159.82 | J19: =ROUND(I19/$I$27,4) -> 0.011
A20: 2.3 | B20: Alvenaria de fundação em pedra, espessura = 20 cm | C20: SINAPI | D20: 95474 | E20: M³ | F20: =((0.6*0.4*8.5)*2)+((0.6*0.4*5.15)*2)+(0.6*0.4*5.15) -> 7.79 | G20: 618.37 | H20: =ROUND(G20*(1+$G$6),2) -> 748.1 | I20: =ROUND(F20*H20,2) -> 5827.7 | J20: =ROUND(I20/$I$27,4) -> 0.4005
A21: 2.4 | B21: Armadura das vigas de fundação de estrutura convencional de concreto armado de 5.0mm | C21: SINAPI | D21: 92775 | E21: kg | F21: 28.46 | G21: 19.19 | H21: =ROUND(G21*(1+$G$6),2) -> 23.22 | I21: =ROUND(F21*H21,2) -> 660.84 | J21: =ROUND(I21/$I$27,4) -> 0.0454
A22: 2.5 | B22: Armadura das vigas de fundação de estrutura convencional de concreto armado de 10.0mm | C22: SINAPI | D22: 92778 | E22: kg | F22: 52.2 | G22: 15.15 | H22: =ROUND(G22*(1+$G$6),2) -> 18.33 | I22: =ROUND(F22*H22,2) -> 956.83 | J22: =ROUND(I22/$I$27,4) -> 0.0658
A23: 2.6 | B23: Armadura das vigas de fundação de estrutura convencional de concreto armado de 12.50mm | C23: SINAPI | D23: 92779 | E23: kg | F23: 40.65 | G23: 12.75 | H23: =ROUND(G23*(1+$G$6),2) -> 15.42 | I23: =ROUND(F23*H23,2) -> 626.82 | J23: =ROUND(I23/$I$27,4) -> 0.0431
A24: 2.7 | B24: Concretagem das vigas baldrames | C24: SINAPI | D24: 96557 | E24: M³ | F24: 1.37 | G24: 599.57 | H24: =ROUND(G24*(1+$G$6),2) -> 725.36 | I24: =ROUND(F24*H24,2) -> 993.74 | J24: =ROUND(I24/$I$27,4) -> 0.0683
A25: 2.8 | B25: Impermeabilização das vigas baldrames com cimento e areia c/aditivo impermeabilizante | C25: SINAPI | D25: 98562 | E25: M² | F25: =((8.5*0.3)*4)+((5.15*0.3)*4)+((5.1*0.3)*2) -> 19.44 | G25: 39.03 | H25: =ROUND(G25*(1+$G$6),2) -> 47.22 | I25: =ROUND(F25*H25,2) -> 917.96 | J25: =ROUND(I25/$I$27,4) -> 0.0631
A26: 2.9 | B26: Montagem e desmontagem de forma de pilares retangulares (reutilização 2 vezes) | C26: SINAPI | D26: 92447 | E26: M² | F26: =19.5/2 -> 9.75 | G26: 151.36 | H26: =ROUND(G26*(1+$G$6),2) -> 183.12 | I26: =ROUND(F26*H26,2) -> 1785.42 | J26: =ROUND(I26/$I$27,4) -> 0.1227
A27: TOTAL ÍTEM | H27: =A17 -> 2 | I27: =ROUND(SUM(I18:I26),2) -> 14552.47 | J27: =ROUND(I27/$I$109,4) -> 0.101
A29: 3 | B29: PAVIMENTAÇÃO
A30: 3.1 | B30: Contrapiso da área interna, em concreto, espessura = 5 cm | C30: SINAPI | D30: 94990 | E30: M³ | F30: =(29.34+9.7)*0.05 -> 1.95 | G30: 713.99 | H30: =ROUND(G30*(1+$G$6),2) -> 863.79 | I30: =ROUND(F30*H30,2) -> 1684.39 | J30: =ROUND(I30/$I$32,4) -> 0.3937
A31: 3.2 | B31: Piso em cerâmica esmaltada antiderrapante | C31: SINAPI | D31: 87246 | E31: M² | F31: =(29.34+9.7) -> 39.04 | G31: 54.92 | H31: =ROUND(G31*(1+$G$6),2) -> 66.44 | I31: =ROUND(F31*H31,2) -> 2593.82 | J31: =ROUND(I31/$I$32,4) -> 0.6063
A32: TOTAL ÍTEM | H32: =A29 -> 3 | I32: =ROUND(SUM(I30:I31),2) -> 4278.21 | J32: =ROUND(I32/$I$109,4) -> 0.0297
A34: 4 | B34: ALVENARIAS DE VEDAÇÃO
A35: 4.1 | B35: Demolição de Alvenaria existente | C35: SINAPI | D35: 97622 | E35: M³ | F35: 3.04 | G35: 57.7 | H35: =ROUND(G35*(1+$G$6),2) -> 69.81 | I35: =ROUND(F35*H35,2) -> 212.22 | J35: =ROUND(I35/$I$37,4) -> 0.0931
A36: 4.2 | B36: Alvenaria de vedação | C36: SINAPI | D36: 103322 | E36: M² | F36: 30 | G36: 56.97 | H36: =ROUND(G36*(1+$G$6),2) -> 68.92 | I36: =ROUND(F36*H36,2) -> 2067.6 | J36: =ROUND(I36/$I$37,4) -> 0.9069
A37: TOTAL ÍTEM | H37: =A34 -> 4 | I37: =ROUND(SUM(I35:I36),2) -> 2279.82 | J37: =ROUND(I37/$I$109,4) -> 0.0158
A39: 5 | B39: REVESTIMENTOS DE PAREDES
A40: 5.1 | B40: Chapisco sobre paredes internas e externas, traço de 1:3 | C40: SINAPI | D40: 87878 | E40: M² | F40: =51.08+61.6+164.22+110 -> 386.9 | G40: 4.81 | H40: =ROUND(G40*(1+$G$6),2) -> 5.82 | I40: =ROUND(F40*H40,2) -> 2251.76 | J40: =ROUND(I40/$I$45,4) -> 0.0423
A41: 5.2 | B41: Emboço para as paredes internas e externas | C41: SINAPI | D41: 87775 | E41: M² | F41: =F40 -> 386.9 | G41: 53.02 | H41: =ROUND(G41*(1+$G$6),2) -> 64.14 | I41: =ROUND(F41*H41,2) -> 24815.77 | J41: =ROUND(I41/$I$45,4) -> 0.4658
A42: 5.3 | B42: Emboço p/ recebimento de cerâmicas, em argamassa TRAÇO 1:2:8. | C42: SINAPI | D42: 87528 | E42: M² | F42: 58 | G42: 44.3 | H42: =ROUND(G42*(1+$G$6),2) -> 53.59 | I42: =ROUND(F42*H42,2) -> 3108.22 | J42: =ROUND(I42/$I$45,4) -> 0.0583
A43: 5.4 | B43: Reboco das paredes internas e externas | C43: SINAPI | D43: 87530 | E43: M² | F43: =F41 -> 386.9 | G43: 40.48 | H43: =ROUND(G43*(1+$G$6),2) -> 48.97 | I43: =ROUND(F43*H43,2) -> 18946.49 | J43: =ROUND(I43/$I$45,4) -> 0.3556
A44: 5.5 | B44: Revestimento das paredes em cerâmica esmaltada | C44: SINAPI | D44: 87265 | E44: M² | F44: 58 | G44: 59.26 | H44: =ROUND(G44*(1+$G$6),2) -> 71.69 | I44: =ROUND(F44*H44,2) -> 4158.02 | J44: =ROUND(I44/$I$45,4) -> 0.078
A45: TOTAL ÍTEM | H45: =A39 -> 5 | I45: =ROUND(SUM(I40:I44),2) -> 53280.26 | J45: =ROUND(I45/$I$109,4) -> 0.3699
A47: 6 | B47: PINTURAS
A48: 6.1 | B48: Pintura das paredes com tinta acrílica, duas demãos interna | C48: SINAPI | D48: 88421 | E48: M² | F48: =31.38+51.08+73.5+30.98+56.66+33.3 -> 276.9 | G48: 27.25 | H48: =ROUND(G48*(1+$G$6),2) -> 32.97 | I48: =ROUND(F48*H48,2) -> 9129.39 | J48: =ROUND(I48/$I$54,4) -> 0.5223
A49: 6.2 | B49: Pintura das paredes com tinta acrílica, duas demãos externa | C49: SINAPI | D49: 88423 | E49: M² | F49: =46+64 -> 110 | G49: 21.05 | H49: =ROUND(G49*(1+$G$6),2) -> 25.47 | I49: =ROUND(F49*H49,2) -> 2801.7 | J49: =ROUND(I49/$I$54,4) -> 0.1603
A50: 6.3 | B50: Pintura a óleo brilhante sobre superficie metálica, incluso uma demão de fundo anticorrosivo | C50: SINAPI | D50: 100741 | E50: M² | F50: 20 | G50: 25.36 | H50: =ROUND(G50*(1+$G$6),2) -> 30.68 | I50: =ROUND(F50*H50,2) -> 613.6 | J50: =ROUND(I50/$I$54,4) -> 0.0351
A51: 6.4 | B51: Pintura tinta de acabamento ( pigmentada ) esmalte sitético fosco em madeira duas de mãos.(forro) | C51: SINAPI | D51: 102218 | E51: M² | F51: =F60+33 -> 189.5 | G51: 16.56 | H51: =ROUND(G51*(1+$G$6),2) -> 20.03 | I51: =ROUND(F51*H51,2) -> 3795.69 | J51: =ROUND(I51/$I$54,4) -> 0.2172
A52: 6.5 | B52: Pintura tinta de acabaqmento a óleo em madeira, 2 demãos (portas) | C52: SINAPI | D52: 102217 | E52: M² | F52: 35 | G52: 17.48 | H52: =ROUND(G52*(1+$G$6),2) -> 21.15 | I52: =ROUND(F52*H52,2) -> 740.25 | J52: =ROUND(I52/$I$54,4) -> 0.0424
A53: 6.6 | B53: Aplicação manual de fundo selador acrílico em paredes externa. | C53: SINAPI | D53: 88411 | E53: M² | F53: =F49 -> 110 | G53: 2.99 | H53: =ROUND(G53*(1+$G$6),2) -> 3.62 | I53: =ROUND(F53*H53,2) -> 398.2 | J53: =ROUND(I53/$I$54,4) -> 0.0228
A54: TOTAL ÍTEM | H54: =A47 -> 6 | I54: =ROUND(SUM(I48:I53),2) -> 17478.83 | J54: =ROUND(I54/$I$109,4) -> 0.1214
A56: 7 | B56: COBERTURA
A57: 7.1 | B57: Estrutura de madeira para o telhado | C57: SINAPI | D57: 92543 | E57: M² | F57: =135+7.5 -> 142.5 | G57: 16.1 | H57: =ROUND(G57*(1+$G$6),2) -> 19.48 | I57: =ROUND(F57*H57,2) -> 2775.9 | J57: =ROUND(I57/$I$62,4) -> 0.0682
A58: 7.2 | B58: Cobertura com telha ondulada de fibrocimento, espessura 6 mm, com inclinação de 30º | C58: SINAPI | D58: 94210 | E58: M² | F58: =135+7.5 -> 142.5 | G58: 53.22 | H58: =ROUND(G58*(1+$G$6),2) -> 64.39 | I58: =ROUND(F58*H58,2) -> 9175.58 | J58: =ROUND(I58/$I$62,4) -> 0.2255
A59: 7.3 | B59: Cumeeira em perfil ondulado de telha de fibrocimento, espessura 6 mm | C59: SINAPI | D59: 100325 | E59: m | F59: =13+12 -> 25 | G59: 93.76 | H59: =ROUND(G59*(1+$G$6),2) -> 113.43 | I59: =ROUND(F59*H59,2) -> 2835.75 | J59: =ROUND(I59/$I$62,4) -> 0.0697
A60: 7.4 | B60: Forro de madeira em pinus | C60: SINAPI | D60: 96112 | E60: M² | F60: =25+49+20+17+9+7+22+7.5 -> 156.5 | G60: 114.2 | H60: =ROUND(G60*(1+$G$6),2) -> 138.16 | I60: =ROUND(F60*H60,2) -> 21622.04 | J60: =ROUND(I60/$I$62,4) -> 0.5313
A61: 7.4 | B61: Acabamentos p/ forro (Roda-forro em madeira Pinus) | C61: SINAPI | D61: 96122 | E61: m | F61: =28+19+21+12+22+7.5 -> 109.5 | G61: 32.36 | H61: =ROUND(G61*(1+$G$6),2) -> 39.15 | I61: =ROUND(F61*H61,2) -> 4286.93 | J61: =ROUND(I61/$I$62,4) -> 0.1053
A62: TOTAL ÍTEM | H62: =A56 -> 7 | I62: =ROUND(SUM(I57:I61),2) -> 40696.2 | J62: =ROUND(I62/$I$109,4) -> 0.2826
A64: 8 | B64: ESQUADRIAS
A65: 8.1 | B65: Janela de aço basculante | C65: SINAPI | D65: 94559 | E65: M² | F65: 2 | G65: 662.27 | H65: =ROUND(G65*(1+$G$6),2) -> 801.21 | I65: =ROUND(F65*H65,2) -> 1602.42 | J65: =ROUND(I65/$I$72,4) -> 0.1388
A66: 8.2 | B66: Vidro espessura 4mm, para janela basculante | C66: SINAPI | D66: 102152 | E66: M² | F66: 10 | G66: 153 | H66: =ROUND(G66*(1+$G$6),2) -> 185.1 | I66: =ROUND(F66*H66,2) -> 1851 | J66: =ROUND(I66/$I$72,4) -> 0.1603
A67: 8.3 | B67: Porta de madeira p/ pintura,semi-oca , 60X210cm | C67: SINAPI | D67: 90820 | E67: Un | F67: 5 | G67: 425.54 | H67: =ROUND(G67*(1+$G$6),2) -> 514.82 | I67: =ROUND(F67*H67,2) -> 2574.1 | J67: =ROUND(I67/$I$72,4) -> 0.2229
A68: 8.4 | B68: Porta de madeira p/ pintura,semi-oca , 90X210cm | C68: SINAPI | D68: 90825 | E68: Un | F68: 4 | G68: 914.41 | H68: =ROUND(G68*(1+$G$6),2) -> 1106.25 | I68: =ROUND(F68*H68,2) -> 4425 | J68: =ROUND(I68/$I$72,4) -> 0.3832
A69: 8.5 | B69: Fechadura de embutir c/ cilindro , externa completa, acabamento padrão popular, incluso de furo - forn. e instalação. | C69: SINAPI | D69: 91304 | E69: Un | F69: 3 | G69: 112.58 | H69: =ROUND(G69*(1+$G$6),2) -> 136.2 | I69: =ROUND(F69*H69,2) -> 408.6 | J69: =ROUND(I69/$I$72,4) -> 0.0354
A70: 8.6 | B70: Fechadura de embutir c/ cilindro ,p/ banheiro completa, acabamento padrão popular, incluso de furo - forn. e instalação. | C70: SINAPI | D70: 91305 | E70: Un | F70: 5 | G70: 113.24 | H70: =ROUND(G70*(1+$G$6),2) -> 137 | I70: =ROUND(F70*H70,2) -> 685 | J70: =ROUND(I70/$I$72,4) -> 0.0593
A72: TOTAL ÍTEM | H72: =A64 -> 8 | I72: =ROUND(SUM(I65:I70),2) -> 11546.12 | J72: =ROUND(I72/$I$109,4) -> 0.0802
A74: 9 | B74: INSTALAÇÕES HIDRÁULICAS
A75: 9.1 | B75: Instalações de tubos PVC, soldável, água fria, DN 25 mm, inclusive conexões, cortes e fixações | C75: SINAPI | D75: COMPOSIÇÃO | E75: m | F75: 20 | G75: =COMP!J35 -> 53.82 | H75: =ROUND(G75*(1+$G$6),2) -> 65.11 | I75: =ROUND(F75*H75,2) -> 1302.2 | J75: =ROUND(I75/$I$81,4) -> 0.6873
A76: 9.2 | B76: Joelho de 90 graus, PVC, soldável, DN 25 mm | C76: SINAPI | D76: 89362 | E76: Un | F76: 15 | G76: 9.85 | H76: =ROUND(G76*(1+$G$6),2) -> 11.92 | I76: =ROUND(F76*H76,2) -> 178.8 | J76: =ROUND(I76/$I$81,4) -> 0.0944
A77: 9.3 | B77: Tê, PVC, soldável, DN 25 mm | C77: SINAPI | D77: 89395 | E77: Un | F77: 5 | G77: 13.63 | H77: =ROUND(G77*(1+$G$6),2) -> 16.49 | I77: =ROUND(F77*H77,2) -> 82.45 | J77: =ROUND(I77/$I$81,4) -> 0.0435
A78: 9.4 | B78: Adaptador com flange e anel de vedação, PVC, soldável, 25 mm x 3/4" | C78: SINAPI | D78: 94703 | E78: Un | F78: 10 | G78: 23.24 | H78: =ROUND(G78*(1+$G$6),2) -> 28.12 | I78: =ROUND(F78*H78,2) -> 281.2 | J78: =ROUND(I78/$I$81,4) -> 0.1484
A79: 9.5 | B79: Registro de esfera PVC, soldável, água fria, DN 25 mm | C79: SINAPI | D79: 94489 | E79: Un | F79: 1 | G79: 41.3 | H79: =ROUND(G79*(1+$G$6),2) -> 49.96 | I79: =ROUND(F79*H79,2) -> 49.96 | J79: =ROUND(I79/$I$81,4) -> 0.0264
A80: 9.6 | B80: Registro de pressão PVC, soldável, água fria, DN 25 mm | C80: SINAPI | D80: 94496 | E80: Un | G80: 98.26 | H80: =ROUND(G80*(1+$G$6),2) -> 118.87 | I80: =ROUND(F80*H80,2) -> 0 | J80: =ROUND(I80/$I$81,4) -> 0
A81: TOTAL ÍTEM | H81: =A74 -> 9 | I81: =ROUND(SUM(I75:I79),2) -> 1894.61 | J81: =ROUND(I81/$I$109,4) -> 0.0132
A82: 10 | B82: INSTALAÇÕES ELÉTRICAS
A83: 11.1 | B83: Tomada alta de embutir (1 módulo), 2P+T 20 A, incluindo suporte e placa. | C83: SINAPI | D83: 91993 | E83: Un | F83: 2 | G83: 51.62 | H83: =ROUND(G83*(1+$G$6),2) -> 62.45 | I83: =ROUND(F83*H83,2) -> 124.9 | J83: =ROUND(I83/$I$96,4) -> 0.0261
A84: 11.2 | B84: Tomada baixa de embutir (1 módulo), 2P+T 20 A, incluindo suporte e placa. | C84: SINAPI | D84: 92001 | E84: Un | F84: 4 | G84: 37.57 | H84: =ROUND(G84*(1+$G$6),2) -> 45.45 | I84: =ROUND(F84*H84,2) -> 181.8 | J84: =ROUND(I84/$I$96,4) -> 0.0381
A85: 11.3 | B85: Interruptor simples (1 módulo), 10A/250V, incluindo suporte e placa, forn. e instalação. | C85: SINAPI | D85: 91953 | E85: Un | F85: 2 | G85: 33.08 | H85: =ROUND(G85*(1+$G$6),2) -> 40.02 | I85: =ROUND(F85*H85,2) -> 80.04 | J85: =ROUND(I85/$I$96,4) -> 0.0168
A86: 11.4 | B86: Interruptor simples (2 módulo), 10A/250V, incluindo suporte e placa, forn. e instalação. | C86: SINAPI | D86: 91959 | E86: Un | F86: 1 | G86: 50.67 | H86: =ROUND(G86*(1+$G$6),2) -> 61.3 | I86: =ROUND(F86*H86,2) -> 61.3 | J86: =ROUND(I86/$I$96,4) -> 0.0128
A87: 11.5 | B87: Interruptor simples (3 módulo), 10A/250V, incluindo suporte e placa, forn. e instalação. | C87: SINAPI | D87: 91967 | E87: Un | F87: 1 | G87: 68.25 | H87: =ROUND(G87*(1+$G$6),2) -> 82.57 | I87: =ROUND(F87*H87,2) -> 82.57 | J87: =ROUND(I87/$I$96,4) -> 0.0173
A88: 11.6 | B88: Cabo de cobre flexível isolado, 1,5 mm², anti-chama 450/750 p/ circuitos terminais - forn.e instalação. | C88: SINAPI | D88: 91925 | E88: m | F88: 51 | G88: 3.51 | H88: =ROUND(G88*(1+$G$6),2) -> 4.25 | I88: =ROUND(F88*H88,2) -> 216.75 | J88: =ROUND(I88/$I$96,4) -> 0.0454
A89: 11.7 | B89: Cabo de cobre flexível isolado, 2,5 mm², anti-chama 450/750 p/ circuitos terminais - forn.e instalação. | C89: SINAPI | D89: 91926 | E89: m | F89: 120 | G89: 4.21 | H89: =ROUND(G89*(1+$G$6),2) -> 5.09 | I89: =ROUND(F89*H89,2) -> 610.8 | J89: =ROUND(I89/$I$96,4) -> 0.1279
A90: 11.8 | B90: Quadro de distribuição de energia de embutir p/ 3 disjuntor, fornecimento e instalação | C90: SINAPI | D90: 101877 | E90: Un | I90: =ROUND(F90*H90,2) -> 0 | J90: =ROUND(I90/$I$96,4) -> 0
A91: 11.9 | B91: Disjuntor monopolar tipo DIN,corrente nominal de 25A - forn. E instalação. | C91: SINAPI | D91: 93653 | E91: Un | I91: =ROUND(F91*H91,2) -> 0 | J91: =ROUND(I91/$I$96,4) -> 0
A92: 11.8 | B92: Eletrodutio flexível corrugado, PVC, DN 25 mm (3/4"), p/ circuitos terminais inst. em forro - forn. e instalação. | C92: SINAPI | D92: 91834 | E92: m | F92: 58 | G92: 19.96 | H92: =ROUND(G92*(1+$G$6),2) -> 24.15 | I92: =ROUND(F92*H92,2) -> 1400.7 | J92: =ROUND(I92/$I$96,4) -> 0.2932
A93: 11.9 | B93: Eletroduto rígico roscável, PVC, DN 25 mm (3/4"),p/ circuitos terminais, inst. em parade/piso -forn. e instalação. | C93: SINAPI | D93: 91871 | E93: m | F93: 25 | G93: 15.95 | H93: =ROUND(G93*(1+$G$6),2) -> 19.3 | I93: =ROUND(F93*H93,2) -> 482.5 | J93: =ROUND(I93/$I$96,4) -> 0.101
A94: 11.10 | B94: Luminária tipo calha, de sobrepor, c/ 2 lâmpadas tubulares de 36w - forn. e inst. | C94: SINAPI | D94: 97586 | E94: Un | F94: 7 | G94: 181.38 | H94: =ROUND(G94*(1+$G$6),2) -> 219.43 | I94: =ROUND(F94*H94,2) -> 1536.01 | J94: =ROUND(I94/$I$96,4) -> 0.3215
A95: 11.13 | B95: Luminária de Emergência c/30 lâmpadas Led de 2W, s/reator, forn. e inst. | C95: SINAPI | D95: 97599 | E95: Un | G95: 24.95 | H95: =ROUND(G95*(1+$G$6),2) -> 30.18 | I95: =ROUND(F95*H95,2) -> 0 | J95: =ROUND(I95/$I$96,4) -> 0
A96: TOTAL ÍTEM | H96: =A82 -> 10 | I96: =ROUND(SUM(I83:I94),2) -> 4777.37 | J96: =ROUND(I96/$I$109,4) -> 0.0332
A98: 11 | B98: LOUÇAS E ACESSÓRIOS SANITÁRIOS
A99: 12.1 | B99: Vaso sanitário sifonado convencional, louça branca, fornecimento e instalação | C99: SINAPI | D99: 95469 | E99: Un | F99: 4 | G99: 297.99 | H99: =ROUND(G99*(1+$G$6),2) -> 360.51 | I99: =ROUND(F99*H99,2) -> 1442.04 | J99: =ROUND(I99/$I$106,4) -> 0.465
A100: 12.2 | B100: Lavatório de louça branca suspenso 29,5 x 39,0 cm ou equivalente, inclusive conexões (Fornecimento e Instalação) | C100: SINAPI | D100: 86904 | E100: Un | H100: =ROUND(G100*(1+$G$6),2) -> 0 | I100: =ROUND(F100*H100,2) -> 0 | J100: =ROUND(I100/$I$106,4) -> 0
A101: 12.2 | B101: Papeleira de parede em metal cromado (Fornecimento e Instalação) | C101: SINAPI | D101: 95544 | E101: Un | F101: 5 | G101: 89 | H101: =ROUND(G101*(1+$G$6),2) -> 107.67 | I101: =ROUND(F101*H101,2) -> 538.35 | J101: =ROUND(I101/$I$106,4) -> 0.1736
A102: 12.3 | B102: Torneira cromada, padrão popular - fornecimento e instalação. | C102: SINAPI | D102: 86913 | E102: Un | F102: 1 | G102: 83.42 | H102: =ROUND(G102*(1+$G$6),2) -> 100.92 | I102: =ROUND(F102*H102,2) -> 100.92 | J102: =ROUND(I102/$I$106,4) -> 0.0325
A103: 12.4 | B103: Assento sanitário convencional -(Fornecimento e Instalação) | C103: SINAPI | D103: 100849 | E103: Un | F103: 5 | G103: 43.36 | H103: =ROUND(G103*(1+$G$6),2) -> 52.46 | I103: =ROUND(F103*H103,2) -> 262.3 | J103: =ROUND(I103/$I$106,4) -> 0.0846
A104: 12.5 | B104: Extintor de incêncio portátil c/ carga de PQS de 12 KG, CLASSE BC - F | C104: SINAPI | D104: 101911 | E104: Un | G104: 27.69 | H104: =ROUND(G104*(1+$G$6),2) -> 33.5 | I104: =ROUND(F104*H104,2) -> 0 | J104: =ROUND(I104/$I$106,4) -> 0
A105: 12.5 | B105: Lavatorio Louça branca suspenso, 29,5 X 39CM ,incl.sifão em PVC, válvula e engatew flexível | C105: SINAPI | D105: 86942 | E105: Un | F105: 2 | G105: 313.21 | H105: =ROUND(G105*(1+$G$6),2) -> 378.92 | I105: =ROUND(F105*H105,2) -> 757.84 | J105: =ROUND(I105/$I$106,4) -> 0.2444
A106: TOTAL ÍTEM | H106: =A98 -> 11 | I106: =ROUND(SUM(I99:I105),2) -> 3101.45 | J106: =ROUND(I106/$I$109,4) -> 0.0215
A109: VALOR TOTAL DOS SERVIÇOS | I109: =I106+I96+I81+I72+I62+I54+I45+I37+I15 -> 144020.21 | J109: =J27+J15+J32+J37+J45+J54+J62+J72+J81+J96+J106 -> 1.131

Sheet TOTALIZADORA
A1: PLANILHA TOTALIZADORA COM CRONOGRAMA FÍSICO-FINACEIRO
A3: ='PO - SANITÁRIOS'!A3 -> OBRA: REFORMA ESCOLA MUNICIPAL ENSINO FUNDAMENTAL NOSSA SRA.DAS GRAÇAS
A4: ='PO - SANITÁRIOS'!A4 -> LOCALIZAÇÃO: RUA HELMO NONNEMACHER,Nº1115, CAPELA DE SANTANA - RS
A5: ='PO - SANITÁRIOS'!A5 -> ÁREA:134,30 m²
A6: ='PO - SANITÁRIOS'!A6 -> SINAPI: DATA BASE : out/2023
A8: Item | B8: Descrição dos Serviços | C8: VALOR TOTAL | D8: % | E8: 30 dias | F8: % | G8: 60 dias | H8: %
C9: Mat./M.Obra
A11: ='PO - SANITÁRIOS'!A11 -> 1 | B11: ='PO - SANITÁRIOS'!B11 -> SERVIÇOS PRELIMINARES | C11: ='PO - SANITÁRIOS'!I15 -> 8965.55 | D11: ='PO - SANITÁRIOS'!J15 -> 0.0623 | E11: =F11*$C11 -> 8965.55 | F11: 1 | G11: =H11*$C11 -> 0 | H11: 0 | I11: =E11+G11 -> 8965.55 | J11: =F11+H11 -> 1
A12: ='PO - SANITÁRIOS'!A17 -> 2 | B12: ='PO - SANITÁRIOS'!B17 -> FUNDAÇÃO | D12: 0 | E12: =F12*$C12 -> 0 | F12: 0 | G12: =H12*$C12 -> 0 | H12: 0 | I12: =E12+G12 -> 0 | J12: =F12+H12 -> 0
A13: ='PO - SANITÁRIOS'!A29 -> 3 | B13: ='PO - SANITÁRIOS'!B29 -> PAVIMENTAÇÃO | D13: 0 | E13: =F13*$C13 -> 0 | F13: 0 | G13: =H13*$C13 -> 0 | H13: 0 | I13: =E13+G13 -> 0 | J13: =F13+H13 -> 0
A14: ='PO - SANITÁRIOS'!A34 -> 4 | B14: ='PO - SANITÁRIOS'!B34 -> ALVENARIAS DE VEDAÇÃO | C14: ='PO - SANITÁRIOS'!I37 -> 2279.82 | D14: ='PO - SANITÁRIOS'!J37 -> 0.0158 | E14: =F14*$C14 -> 2279.82 | F14: 1 | G14: =H14*$C14 -> 0 | H14: 0 | I14: =E14+G14 -> 2279.82 | J14: =F14+H14 -> 1
A15: ='PO - SANITÁRIOS'!A39 -> 5 | B15: ='PO - SANITÁRIOS'!B39 -> REVESTIMENTOS DE PAREDES | C15: ='PO - SANITÁRIOS'!I45 -> 53280.26 | D15: ='PO - SANITÁRIOS'!J45 -> 0.3699 | E15: =F15*$C15 -> 0 | F15: 0 | G15: =H15*$C15 -> 53280.26 | H15: 1 | I15: =E15+G15 -> 53280.26 | J15: =F15+H15 -> 1
A16: ='PO - SANITÁRIOS'!A47 -> 6 | B16: ='PO - SANITÁRIOS'!B47 -> PINTURAS | C16: ='PO - SANITÁRIOS'!I54 -> 17478.83 | D16: ='PO - SANITÁRIOS'!J54 -> 0.1214 | E16: =F16*$C16 -> 0 | F16: 0 | G16: =H16*$C16 -> 17478.83 | H16: 1 | I16: =E16+G16 -> 17478.83 | J16: =F16+H16 -> 1
A17: ='PO - SANITÁRIOS'!A56 -> 7 | B17: ='PO - SANITÁRIOS'!B56 -> COBERTURA | C17: ='PO - SANITÁRIOS'!I62 -> 40696.2 | D17: ='PO - SANITÁRIOS'!J62 -> 0.2826 | E17: =F17*$C17 -> 40696.2 | F17: 1 | G17: =H17*$C17 -> 0 | H17: 0 | I17: =E17+G17 -> 40696.2 | J17: =F17+H17 -> 1
A18: ='PO - SANITÁRIOS'!A64 -> 8 | B18: ='PO - SANITÁRIOS'!B64 -> ESQUADRIAS | C18: ='PO - SANITÁRIOS'!I72 -> 11546.12 | D18: ='PO - SANITÁRIOS'!J72 -> 0.0802 | E18: =F18*$C18 -> 11546.12 | F18: 1 | G18: =H18*$C18 -> 0 | H18: 0 | I18: =E18+G18 -> 11546.12 | J18: =F18+H18 -> 1
A19: ='PO - SANITÁRIOS'!A74 -> 9 | B19: ='PO - SANITÁRIOS'!B74 -> INSTALAÇÕES HIDRÁULICAS | C19: ='PO - SANITÁRIOS'!I81 -> 1894.61 | D19: ='PO - SANITÁRIOS'!J81 -> 0.0132 | E19: =F19*$C19 -> 1894.61 | F19: 1 | G19: =H19*$C19 -> 0 | H19: 0 | I19: =E19+G19 -> 1894.61 | J19: =F19+H19 -> 1
A20: 10 | B20: ='PO - SANITÁRIOS'!B82 -> INSTALAÇÕES ELÉTRICAS | C20: ='PO - SANITÁRIOS'!I96 -> 4777.37 | D20: ='PO - SANITÁRIOS'!J96 -> 0.0332 | E20: =F20*$C20 -> 2388.69 | F20: 0.5 | G20: =H20*$C20-0.01 -> 2388.68 | H20: 0.5 | I20: =E20+G20 -> 4777.37 | J20: =F20+H20 -> 1
A21: 11 | B21: ='PO - SANITÁRIOS'!B98 -> LOUÇAS E ACESSÓRIOS SANITÁRIOS | C21: ='PO - SANITÁRIOS'!I106 -> 3101.45 | D21: ='PO - SANITÁRIOS'!J106 -> 0.0215 | E21: =F21*$C21 -> 0 | F21: 0 | G21: =H21*$C21 -> 3101.45 | H21: 1 | I21: =E21+G21 -> 3101.45 | J21: =F21+H21 -> 1
A23: TOTAL DAS MEDIÇÕES | C23: =SUM(C11:C22) -> 144020.21 | D23: =SUM(D11:D21) -> 1 | E23: =SUM(E11:E21) -> 67770.99 | F23: =E23/$C23 -> 0.4706 | G23: =SUM(G11:G21) -> 76249.22 | H23: =G23/$C23 -> 0.5294 | J23: =AVERAGE(J11:J21) -> 0.82
A24: VALORES ACUMULADOS | E24: =E23 -> 67770.99 | F24: =E24/$C23 -> 0.4706 | G24: =G23+E24 -> 144020.21 | H24: =G24/$C23 -> 1

Sheet COMP
D4: PREFEITURA MUNICIPAL DE CAPELA DE SANTANA/RS
D6: OBJETO: | E6: PROJETO DE EDIFICAÇÃO
D8: COMPOSIÇÃO- NSTALAÇÃO DE TUBOS DE PVC, SOLDÁVEL, ÁGUA FRIA, DN 25 MM
D9: CLASSE/TIPO | E9: CÓDIGOS | F9: DESCRIÇÃO | G9: UNIDADE | H9: COEF. | I9: PREÇO UNIT. | J9: PREÇO TOTAL
D10: COMPOSICAO | E10: 89356 | F10: TUBO, PVC, SOLDÁVEL, DN 25MM, INSTALADO EM RAMAL OU SUB-RAMAL DE ÁGUA,DESCRIÇÃO ,FORNECIMENTO E INSTALAÇÃO. | G10: M | H10: 0.794 | I10: 24.68 | J10: =I10*H10 -> 19.6
D11: COMPOSICAO | E11: 89362 | F11: JOELHO 90 GRAUS, PVC, SOLDÁVEL, DN 25MM, INSTALADO EM RAMAL OU SUB-RAMAL E ÁGUA - FORNECIMENTO E INSTALAÇÃO | G11: UNIDADE | H11: 0.6543 | I11: 9.85 | J11: =I11*H11 -> 6.44
D12: COMPOSICAO | E12: 89366 | F12: JOELHO 90 GRAUS COM BUCHA DE LATÃO, PVC, SOLDÁVEL, DN 25MM, X 3/4 INSTALADO EM RAMAL OU SUB-RAMAL DE ÁGUA - FORNECIMENTO E INSTALAÇÃO. | G12: UNIDADE | H12: 0.1694 | I12: 17.66 | J12: =I12*H12 -> 2.99
D13: COMPOSICAO | E13: 89378 | F13: LUVA, PVC, SOLDÁVEL, DN 25MM, INSTALADO EM RAMAL OU SUB-RAMAL DE ÁGUA - FORNECIMENTO E INSTALAÇÃO. | G13: UNIDADE | H13: 0.0773 | I13: 7.38 | J13: =I13*H13 -> 0.57
D14: COMPOSICAO | E14: 89383 | F14: ADAPTADOR CURTO COM BOLSA E ROSCA PARA REGISTRO, PVC, SOLDÁVEL, DN 25MM X3/4 , INSTALADO EM RAMAL OU SUB-RAMAL DE ÁGUA - FORNECIMENTO E INSTALAÇÃO | G14: UNIDADE | H14: 0.6522 | I14: 6.93 | J14: =I14*H14 -> 4.52
D15: COMPOSICAO | E15: 89395 | F15: TE, PVC, SOLDÁVEL, DN 25MM, INSTALADO EM RAMAL OU SUB-RAMAL DE ÁGUA - FORNECIMENTO E INSTALAÇÃO. | G15: UNIDADE | H15: 0.3037 | I15: 13.63 | J15: =I15*H15 -> 4.14
D16: COMPOSICAO | E16: 89396 | F16: TÊ COM BUCHA DE LATÃO NA BOLSA CENTRAL, PVC, SOLDÁVEL, DN 25MM X 1/2 INSTALADO EM RAMAL OU SUB-RAMAL DE ÁGUA - FORNECIMENTO E INSTALAÇÃO. | G16: UNIDADE | H16: 0.0168 | I16: 22.14 | J16: =I16*H16 -> 0.37
D17: COMPOSICAO | E17: 89400 | F17: TÊ DE REDUÇÃO, PVC, SOLDÁVEL, DN 32MM X 25MM, INSTALADO EM RAMAL OU SUB-RAMAL DE ÁGUA - FORNECIMENTO E INSTALAÇÃO. | G17: UNIDADE | H17: 0.0115 | I17: 21.3 | J17: =I17*H17 -> 0.24
D18: COMPOSICAO | E18: 89402 | F18: TUBO, PVC, SOLDÁVEL, DN 25MM, INSTALADO EM RAMAL DE DISTRIBUIÇÃO DE ÁGUA FORNECIMENTO E INSTALAÇÃO. | G18: M | H18: 0.078 | I18: 13.22 | J18: =I18*H18 -> 1.03
D19: COMPOSICAO | E19: 89408 | F19: JOELHO 90 GRAUS, PVC, SOLDÁVEL, DN 25MM, INSTALADO EM RAMAL DE DISTRIBUIÇÃO DE ÁGUA - FORNECIMENTO E INSTALAÇÃO. | G19: UNIDADE | H19: 0.0076 | I19: 9.02 | J19: =I19*H19 -> 0.07
D20: COMPOSICAO | E20: 89424 | F20: LUVA, PVC, SOLDÁVEL, DN 25MM, INSTALADO EM RAMAL DE DISTRIBUIÇÃO DE ÁGUA ORNECIMENTO E INSTALAÇÃO. | G20: UNIDADE | H20: 0.0135 | I20: 6.81 | J20: =I20*H20 -> 0.09
D21: COMPOSICAO | E21: 89440 | F21: TE, PVC, SOLDÁVEL, DN 25MM, INSTALADO EM RAMAL DE DISTRIBUIÇÃO DE ÁGUA FORNECIMENTO E INSTALAÇÃO. | G21: UNIDADE | H21: 0.0017 | I21: 12.51 | J21: =I21*H21 -> 0.02
... D33: COMPOSICAO | E33: 91185 | F33: FIXAÇÃO DE TUBOS HORIZONTAIS DE PVC, CPVC OU COBRE DIÂMETROS MENORES OU IGUAIS A 40 MM COM ABRAÇADEIRA METÁLICA FLEXÍVEL 18 MM | G33: M | H33: 0.0092 | I33: 25.35 | J33: =I33*H33 -> 0.23
D34: COMPOSICAO | E34: 91190 | F34: HUMBAMENTO PONTUAL EM PASSAGEM DE TUBO COM DIÂMETRO MENOR OU IGUAL A 40 MM | G34: UNIDADE | H34: 0.0083 | I34: 10.69 | J34: 3.75
G35: TOTAL / M | J35: =J10+J11+J12+J13+J14+J15+J16+J17+J18+J19+J20+J21+J22+J23+J24+J25+J26+J27+J28+J29+J30+J31+J32+J33+J34 -> 53.82
D36: OBSERVAÇÃO:
D37: 1 - UTILIZADO A TABELA SINAPI NÃO DESONERADA -OUTUBRO/2023
